BEGIN:VCALENDAR
VERSION:2.0
PRODID:-//Emerson Contemporary - ECPv6.15.19//NONSGML v1.0//EN
CALSCALE:GREGORIAN
METHOD:PUBLISH
X-ORIGINAL-URL:https://emersoncontemporary.org
X-WR-CALDESC:Events for Emerson Contemporary
REFRESH-INTERVAL;VALUE=DURATION:PT1H
X-Robots-Tag:noindex
X-PUBLISHED-TTL:PT1H
BEGIN:VTIMEZONE
TZID:America/New_York
BEGIN:DAYLIGHT
TZOFFSETFROM:-0500
TZOFFSETTO:-0400
TZNAME:EDT
DTSTART:20220313T070000
END:DAYLIGHT
BEGIN:STANDARD
TZOFFSETFROM:-0400
TZOFFSETTO:-0500
TZNAME:EST
DTSTART:20221106T060000
END:STANDARD
BEGIN:DAYLIGHT
TZOFFSETFROM:-0500
TZOFFSETTO:-0400
TZNAME:EDT
DTSTART:20230312T070000
END:DAYLIGHT
BEGIN:STANDARD
TZOFFSETFROM:-0400
TZOFFSETTO:-0500
TZNAME:EST
DTSTART:20231105T060000
END:STANDARD
BEGIN:DAYLIGHT
TZOFFSETFROM:-0500
TZOFFSETTO:-0400
TZNAME:EDT
DTSTART:20240310T070000
END:DAYLIGHT
BEGIN:STANDARD
TZOFFSETFROM:-0400
TZOFFSETTO:-0500
TZNAME:EST
DTSTART:20241103T060000
END:STANDARD
END:VTIMEZONE
BEGIN:VEVENT
DTSTART;TZID=America/New_York:20231204T080000
DTEND;TZID=America/New_York:20231206T180000
DTSTAMP:20260420T034250
CREATED:20231207T172143Z
LAST-MODIFIED:20231207T172630Z
UID:8277-1701676800-1701885600@emersoncontemporary.org
SUMMARY:BECAUSE I COME FROM YOU
DESCRIPTION:Maya Seri’s BFA thesis project BECAUSE I COME FROM YOU features photographs\, video projection and sculptural installation\, a project about home\, identity and belonging. Seri’s perception of identity has changed through the making of this work. As she embarks in this period of transition as a 21-year-old\, she realizes that she is no longer a girl. Feeling the departure from childhood\, the artist can’t help but wonder\, “Where is home?” She feels connected to Ohio\, where the artist grew up\, where she’s from. When in Boston\, she feels a loss of identity and have to find herself over and over again. She asks: “Who am I? What am I? I am made of everything. I am made of the experiences I have had\, the people I have met\, and the places I have been.” \n\n\n\nThis project began as a journal entry to the artist’s younger self: “I just want to give you a hug. I want to see you smile and laugh. But that’s what I see in the mirror\, isn’t it? I just don’t recognize it. You are me? I am you. I’m different\, of course. I’m older. ‘Soiled’ by the world\, as some would say. But I have you in me. I can be who I want to be because I come from you.” \n\n\n\nAbout the ArtistMaya Seri’23 is a senior at Emerson College\, is a passionate storyteller who uses the camera as a tool to connect with others and to understand herself and the world around her more thoroughly. Her work portrays themes of identity\, girlhood\, nostalgia\, home\, and connection.
URL:https://emersoncontemporary.org/event/because-i-come-from-you/
CATEGORIES:Exhibition,Student Projects
ATTACH;FMTTYPE=image/png:https://emersoncontemporary.org/wp-content/uploads/sites/51/2023/11/Screenshot-2023-11-30-at-8.07.21-AM.png
END:VEVENT
BEGIN:VEVENT
DTSTART;TZID=America/New_York:20231211T120000
DTEND;TZID=America/New_York:20231215T180000
DTSTAMP:20260420T034250
CREATED:20231209T143312Z
LAST-MODIFIED:20231211T032121Z
UID:8295-1702296000-1702663200@emersoncontemporary.org
SUMMARY:PURPOSEFULLY LOST
DESCRIPTION:Presenting the Fall 2023 Photography Practicum: Purposefully Lost\, a varied collection of reflections and expressions by Emerson artists in the BFA program.  \n\n\n\nFeaturing exhibits by the following resident artists:Aquaholic by Kyra Badger \n\n\n\nUrban Eden by Molly Berard \n\n\n\nShit Show by Maya Bergman \n\n\n\nStarring… by Charlene Cheung \n\n\n\nCardboard Reality by Jose Benito Guevera \n\n\n\nConcurrent by Yangyang Huang \n\n\n\nSecond Spine by Yiyi Lu \n\n\n\nDouble Take by Xiaoke Ma \n\n\n\nempathic fluorescence by Mia Moore \n\n\n\nDeinstitutionalised by Julia Tweedie  \n\n\n\nTraces Echo by Yuchun (Emily) Zhou
URL:https://emersoncontemporary.org/event/purposefully-lost-photos/
LOCATION:Huret & Spector Gallery; Tufte Building
CATEGORIES:Exhibition,Student Projects
ATTACH;FMTTYPE=image/png:https://emersoncontemporary.org/wp-content/uploads/sites/51/2023/12/image0.png
END:VEVENT
END:VCALENDAR