BEGIN:VCALENDAR
VERSION:2.0
PRODID:-//Emerson Contemporary - ECPv6.15.19//NONSGML v1.0//EN
CALSCALE:GREGORIAN
METHOD:PUBLISH
X-ORIGINAL-URL:https://emersoncontemporary.org
X-WR-CALDESC:Events for Emerson Contemporary
REFRESH-INTERVAL;VALUE=DURATION:PT1H
X-Robots-Tag:noindex
X-PUBLISHED-TTL:PT1H
BEGIN:VTIMEZONE
TZID:America/New_York
BEGIN:DAYLIGHT
TZOFFSETFROM:-0500
TZOFFSETTO:-0400
TZNAME:EDT
DTSTART:20180311T070000
END:DAYLIGHT
BEGIN:STANDARD
TZOFFSETFROM:-0400
TZOFFSETTO:-0500
TZNAME:EST
DTSTART:20181104T060000
END:STANDARD
BEGIN:DAYLIGHT
TZOFFSETFROM:-0500
TZOFFSETTO:-0400
TZNAME:EDT
DTSTART:20190310T070000
END:DAYLIGHT
BEGIN:STANDARD
TZOFFSETFROM:-0400
TZOFFSETTO:-0500
TZNAME:EST
DTSTART:20191103T060000
END:STANDARD
BEGIN:DAYLIGHT
TZOFFSETFROM:-0500
TZOFFSETTO:-0400
TZNAME:EDT
DTSTART:20200308T070000
END:DAYLIGHT
BEGIN:STANDARD
TZOFFSETFROM:-0400
TZOFFSETTO:-0500
TZNAME:EST
DTSTART:20201101T060000
END:STANDARD
BEGIN:DAYLIGHT
TZOFFSETFROM:-0500
TZOFFSETTO:-0400
TZNAME:EDT
DTSTART:20210314T070000
END:DAYLIGHT
BEGIN:STANDARD
TZOFFSETFROM:-0400
TZOFFSETTO:-0500
TZNAME:EST
DTSTART:20211107T060000
END:STANDARD
END:VTIMEZONE
BEGIN:VEVENT
DTSTART;TZID=America/New_York:20201014T183000
DTEND;TZID=America/New_York:20201014T200000
DTSTAMP:20260421T185022
CREATED:20230815T185431Z
LAST-MODIFIED:20231003T155621Z
UID:7294-1602700200-1602705600@emersoncontemporary.org
SUMMARY:Memorials: As Monuments Fall. Panel: Artist Activist Tory Bullock\, Art Historian Cher Krause Knight\, Artist Activist Zsuzsanna Szegedi.
DESCRIPTION:  \nThe two Memorials panels are organized in collaboration with Professors Anya Belkina and Cher Krause Knight\, and inspired by their co-taught class Boston Memorials Revisited and Reimagined: Public Art and Virtual Modeling. Bringing together artists\, activists\, architects\, urban planners\, and scholars\, the conversation centers around issues of memorial design and how our relationships to memorials can be understood and contextualized in terms of audience response. \nThe recent surge in the removal of public monuments—whether by the public and/or by the cities and towns that own them—will be our topic this evening. Panel: Artist Activist Tory Bullock\, Art Historian Cher Krause Knight\, Artist Activist Zsuzsanna Szegedi. Moderated by Curator Leonie Bradbury.
URL:https://emersoncontemporary.org/event/memorials-as-monuments-fall/
CATEGORIES:Public Program,Virtual program
ATTACH;FMTTYPE=image/png:https://emersoncontemporary.org/wp-content/uploads/sites/51/2021/04/Memorials-As-Monuments-Fall-1-copy-2.png
END:VEVENT
BEGIN:VEVENT
DTSTART;TZID=America/New_York:20200820T080000
DTEND;TZID=America/New_York:20200820T170000
DTSTAMP:20260421T185022
CREATED:20230815T194248Z
LAST-MODIFIED:20231003T201044Z
UID:7441-1597910400-1597942800@emersoncontemporary.org
SUMMARY:Video and Digital Art Drive In\, Area Code Art Fair
DESCRIPTION:The Area Code Art Fair drive-in screening offered a wide selection of artistic content\, ranging from abstract glitch art\, computer generated rhythms and sounds\, and Zoom karaoke\, to moving personal testimonials and critical\, documentary short films. You can review a complete list of artists. In addition to the screening\, the Drive In displayed six independent light projections created by Liz Nofziger\, Maria Servellon\, Zsuzsanna Szegedi\, Ellen Wetmore\, and Stephanie Benenson’s “Harbor Voices\,” to be showcased directly onto the walls of Salem State University’s O’Keefe Sports Complex. Their selections were accompanied by a creative light installation on the glass facade of the complex by light artist Joey Nicotera of Retonica. \n \nRead more about the process and project details on Emerson Today. \nThe drive-in took place in conjunction with AREA CODE—New England’s first art fair dedicated exclusively to regional artists—and in collaboration with the North Shore’s Creative Collective\, Salem State University Center for Creative and Performing Arts\, and City of Salem. The evening event is sponsored by LuminArtz\, a non-profit organization that highlights local and regional artists who create innovative light art experiences. \nThe event was curated by Dr. Leonie Bradbury\, Distinguished Curator-in Residence at Emerson College. Emerson Contemporary’s Exhibitions Manager Jim Manning serves as the Manager of Digital Content and Pamela Hersch of LuminArtz is the Technical Director of the event. The one-night experience was organized in partnership with John Andrews of Creative Collective\, an organization that works to support and provide opportunities to the creative workforce across the North Shore. Special thanks to the City of Salem and Mayor Kimberley Driscoll for supporting this project and the creative community. \n\n\n\n\n\n\n\n 
URL:https://emersoncontemporary.org/event/video-and-digital-art-drive-in-area-code-art-fair/
CATEGORIES:Exhibition,Film Screening,Public Program
ATTACH;FMTTYPE=image/jpeg:https://emersoncontemporary.org/wp-content/uploads/sites/51/2021/09/IMG_2428.jpg
END:VEVENT
BEGIN:VEVENT
DTSTART;TZID=America/New_York:20200223T140000
DTEND;TZID=America/New_York:20200223T160000
DTSTAMP:20260421T185022
CREATED:20230815T185431Z
LAST-MODIFIED:20231003T160141Z
UID:7293-1582466400-1582473600@emersoncontemporary.org
SUMMARY:Investigating the Material feat. Sarah Trahan and Zsuzsanna Szegedi
DESCRIPTION:Join us for an intimate conversation in the gallery with spacetime artists Trahan and Szegedi and the exhibition curator as they discuss their experiences collaborating with machines as each artist investigates digital technology through its imperfections. Learn what happens when the work of art has no center and exists across multiple media\, both virtual and real\, as it manifests the various stages of an unfolding process.\n\nSpacetime (x\, y\, x + t) is a multi-dimensional exhibition that features experimental works by regional and international artists\, features digital projections\, 3D printed objects\, inkjet prints\, virtual reality drawings\, video\, site specific light installation\, and a dancing robot.
URL:https://emersoncontemporary.org/event/investigating-the-material-feat-sarah-trahan-and-zsuzsanna-szegedi/
CATEGORIES:Artist Talk,Gallery Talk
ATTACH;FMTTYPE=image/jpeg:https://emersoncontemporary.org/wp-content/uploads/sites/51/2022/01/space-6-scaled.jpg
END:VEVENT
BEGIN:VEVENT
DTSTART;TZID=America/New_York:20200202T140000
DTEND;TZID=America/New_York:20200202T160000
DTSTAMP:20260421T185022
CREATED:20230815T185431Z
LAST-MODIFIED:20231003T155949Z
UID:7292-1580652000-1580659200@emersoncontemporary.org
SUMMARY:Performativity of Objects feat. Katherine Mitchell DiRico and Nicole L’Huillier
DESCRIPTION:Join us for an intimate conversation in the gallery with spacetime artists DiRico and L’Huillier and the exhibition curator as they explore non-human performativity through movement\, sound\, and light. We’ll discuss the agency of objects and how the art works on display are in a continual state of becoming. \nSpacetime (x\, y\, x + t) is a multi-dimensional exhibition that features experimental works by regional and international artists\, features digital projections\, 3D printed objects\, inkjet prints\, virtual reality drawings\, video\, site specific light installation\, and a dancing robot.
URL:https://emersoncontemporary.org/event/in-conversation-performativity-of-objects/
CATEGORIES:Artist Talk,Gallery Talk
ATTACH;FMTTYPE=image/jpeg:https://emersoncontemporary.org/wp-content/uploads/sites/51/2022/01/space-3-scaled.jpg
END:VEVENT
BEGIN:VEVENT
DTSTART;TZID=America/New_York:20191016T180000
DTEND;TZID=America/New_York:20191016T193000
DTSTAMP:20260421T185022
CREATED:20230815T185431Z
LAST-MODIFIED:20231003T154634Z
UID:7288-1571248800-1571254200@emersoncontemporary.org
SUMMARY:Cannupa Hanska Luger: Indigenous Science Fiction\, The Imagination and Long-Term Thinking
DESCRIPTION:A reception was held Wednesday\, October 16\, in the Jackie Liebergott Black Box Theater at Emerson’s Paramount Center\, 559 Washington Street\, followed by the talk Indigenous Science Fiction\, The Imagination and Long-Term Thinking\, where artist Cannupa Hanska Luger was in conversation with author and historian of science Dr. Jimena Canales. The conversation was presented by Emerson’s Media Art Gallery and Long Now Boston\, an organization that fosters long term thinking. It was moderated by Dr. Leonie Bradbury\, Henry and Lois Foster Chair of Contemporary Art Theory and Practice and Distinguished Curator-in-Residence at Emerson College.
URL:https://emersoncontemporary.org/event/indigenous-science-fiction/
CATEGORIES:Artist Talk,Public Program
ATTACH;FMTTYPE=image/jpeg:https://emersoncontemporary.org/wp-content/uploads/sites/51/2019/01/CannupaHanska_035-scaled.jpg
END:VEVENT
BEGIN:VEVENT
DTSTART;TZID=America/New_York:20191003T123000
DTEND;TZID=America/New_York:20191003T153000
DTSTAMP:20260421T185022
CREATED:20230815T185431Z
LAST-MODIFIED:20231003T154403Z
UID:7287-1570105800-1570116600@emersoncontemporary.org
SUMMARY:GlitchKraft Artist Talk: Allison Tanenhaus\, Ben Foley\, and Lauren Klotzman
DESCRIPTION:Artist Talk Featuring exhibiting artists Allison Tanenhaus\, Ben Foley\, and Lauren Klotzman \nVideo Art Performance MEMORY RECOVERY : : AFTERDARK REVISITED by Lauren Klotzman.
URL:https://emersoncontemporary.org/event/glitchkraft-artist-talk-1/
CATEGORIES:Artist Talk
ATTACH;FMTTYPE=image/jpeg:https://emersoncontemporary.org/wp-content/uploads/sites/51/2021/09/DSC_1756.jpg
END:VEVENT
BEGIN:VEVENT
DTSTART;TZID=America/New_York:20190920T120000
DTEND;TZID=America/New_York:20190920T133000
DTSTAMP:20260421T185022
CREATED:20230815T185431Z
LAST-MODIFIED:20231003T154205Z
UID:7285-1568980800-1568986200@emersoncontemporary.org
SUMMARY:GlitchKraft Artist Talk: Alex Kittle
DESCRIPTION:  \nArtist Talk featuring illustrator\, art historian\, and film curator Alex Kittle \nSince 2018\, Kittle has been devoted to women filmmakers\, creating portraits and zine biographies as a way to share their stories and works in an accessible way. She also co-hosts a monthly screening series and discussion group called Strictly Brohibited\, which highlights women-made films in a welcoming community for women and non-binary film fans. Visit @panandscan and @strictlybrohibited for more information.
URL:https://emersoncontemporary.org/event/glitchkraft-artist-talk-2/
CATEGORIES:Artist Talk,Gallery Talk
ATTACH;FMTTYPE=image/jpeg:https://emersoncontemporary.org/wp-content/uploads/sites/51/2021/10/kittle.jpg
END:VEVENT
BEGIN:VEVENT
DTSTART;TZID=America/New_York:20190914T120000
DTEND;TZID=America/New_York:20190914T150000
DTSTAMP:20260421T185022
CREATED:20230815T185431Z
LAST-MODIFIED:20231003T154013Z
UID:7286-1568462400-1568473200@emersoncontemporary.org
SUMMARY:GlitchKraft Glitch Workshop
DESCRIPTION:  \nGlitch Workshop with Allison Tanenhaus \nOne-on-one guidance on iPads (and BYO devices)\, with preloaded images and apps.
URL:https://emersoncontemporary.org/event/glitchkraft-glitch-workshop/
CATEGORIES:Public Program
ATTACH;FMTTYPE=image/jpeg:https://emersoncontemporary.org/wp-content/uploads/sites/51/2019/01/DSC_1759.jpg
END:VEVENT
END:VCALENDAR