BEGIN:VCALENDAR
VERSION:2.0
PRODID:-//Emerson Contemporary - ECPv6.15.19//NONSGML v1.0//EN
CALSCALE:GREGORIAN
METHOD:PUBLISH
X-WR-CALNAME:Emerson Contemporary
X-ORIGINAL-URL:https://emersoncontemporary.org
X-WR-CALDESC:Events for Emerson Contemporary
REFRESH-INTERVAL;VALUE=DURATION:PT1H
X-Robots-Tag:noindex
X-PUBLISHED-TTL:PT1H
BEGIN:VTIMEZONE
TZID:America/New_York
BEGIN:DAYLIGHT
TZOFFSETFROM:-0500
TZOFFSETTO:-0400
TZNAME:EDT
DTSTART:20240310T070000
END:DAYLIGHT
BEGIN:STANDARD
TZOFFSETFROM:-0400
TZOFFSETTO:-0500
TZNAME:EST
DTSTART:20241103T060000
END:STANDARD
BEGIN:DAYLIGHT
TZOFFSETFROM:-0500
TZOFFSETTO:-0400
TZNAME:EDT
DTSTART:20250309T070000
END:DAYLIGHT
BEGIN:STANDARD
TZOFFSETFROM:-0400
TZOFFSETTO:-0500
TZNAME:EST
DTSTART:20251102T060000
END:STANDARD
BEGIN:DAYLIGHT
TZOFFSETFROM:-0500
TZOFFSETTO:-0400
TZNAME:EDT
DTSTART:20260308T070000
END:DAYLIGHT
BEGIN:STANDARD
TZOFFSETFROM:-0400
TZOFFSETTO:-0500
TZNAME:EST
DTSTART:20261101T060000
END:STANDARD
END:VTIMEZONE
BEGIN:VEVENT
DTSTART;TZID=America/New_York:20251008T120000
DTEND;TZID=America/New_York:20251008T133000
DTSTAMP:20260421T181615
CREATED:20251007T192414Z
LAST-MODIFIED:20251008T141647Z
UID:9280-1759924800-1759930200@emersoncontemporary.org
SUMMARY:Hidden Histories Walking Tour with Curator Shana Dumont Garr
DESCRIPTION:Wednesday\, October 8\, 2025\, 12-1:30pm This event has been rescheduled for Monday October 20\, 12-1:30pm. \n\n\n\nJoin Hidden Histories Curator Shana Dumont Garr on a special walking tour to view Kameelah Jana Rasheed\, Sue Murad\, Elisa Hamilton and Clareese Hill’s new public art projects in and around the Boston Common and Beacon Hill neighborhood in Boston\, Ma. \n\n\n\nLocation: Meet at the Boston Common Visitors Center\, 139 Tremont Street\, Boston\, MA.
URL:https://emersoncontemporary.org/event/hidden-histories-walking-tour-with-curator-shana-dumont-garr/
CATEGORIES:Public Program,Regarding Monuments: Visualizing Hidden Histories
ATTACH;FMTTYPE=image/jpeg:https://emersoncontemporary.org/wp-content/uploads/sites/51/2025/08/HiddenHistories.jpeg
END:VEVENT
END:VCALENDAR