BEGIN:VCALENDAR
VERSION:2.0
PRODID:-//Emerson Contemporary - ECPv6.15.19//NONSGML v1.0//EN
CALSCALE:GREGORIAN
METHOD:PUBLISH
X-WR-CALNAME:Emerson Contemporary
X-ORIGINAL-URL:https://emersoncontemporary.org
X-WR-CALDESC:Events for Emerson Contemporary
REFRESH-INTERVAL;VALUE=DURATION:PT1H
X-Robots-Tag:noindex
X-PUBLISHED-TTL:PT1H
BEGIN:VTIMEZONE
TZID:America/New_York
BEGIN:DAYLIGHT
TZOFFSETFROM:-0500
TZOFFSETTO:-0400
TZNAME:EDT
DTSTART:20210314T070000
END:DAYLIGHT
BEGIN:STANDARD
TZOFFSETFROM:-0400
TZOFFSETTO:-0500
TZNAME:EST
DTSTART:20211107T060000
END:STANDARD
BEGIN:DAYLIGHT
TZOFFSETFROM:-0500
TZOFFSETTO:-0400
TZNAME:EDT
DTSTART:20220313T070000
END:DAYLIGHT
BEGIN:STANDARD
TZOFFSETFROM:-0400
TZOFFSETTO:-0500
TZNAME:EST
DTSTART:20221106T060000
END:STANDARD
BEGIN:DAYLIGHT
TZOFFSETFROM:-0500
TZOFFSETTO:-0400
TZNAME:EDT
DTSTART:20230312T070000
END:DAYLIGHT
BEGIN:STANDARD
TZOFFSETFROM:-0400
TZOFFSETTO:-0500
TZNAME:EST
DTSTART:20231105T060000
END:STANDARD
END:VTIMEZONE
BEGIN:VEVENT
DTSTART;TZID=America/New_York:20220307T080000
DTEND;TZID=America/New_York:20220506T170000
DTSTAMP:20260424T083751
CREATED:20230815T194248Z
LAST-MODIFIED:20231003T151702Z
UID:7445-1646640000-1651856400@emersoncontemporary.org
SUMMARY:GlitchKraft v.2 Allison Tanenhaus and Friends
DESCRIPTION:  \nGlitchKraft v.2. Allison Tanenhaus + Friends Alex Kittle\, Ben K. Foley\, Property Materials\, Lauren Klotzman\, and stickipictures \nOn view at Southern New Hampshire University’s McIninch Gallery\, March 7- April 30\, 2022. \nGlitchKraft is a multimedia exhibition of glitch art\, the creative practice of interfering with or intentionally altering digital image files for aesthetic purposes. The exhibition showcased glitch art by Allison Tanenhaus and others with the art taking many forms\, digitally projected onto the gallery walls\, windows\, and displayed on monitors. \n“GlitchKraft is a celebratory display of digital errors\, an ode to the interrupted image. Images that are usually limited to be viewed on a screen – mobile or otherwise – here are projected larger than life onto every surface of the gallery to create a technicolor ‘glitch-world’ that will surround visitors and allow them to be fully immersed in light and sound.” -Dr. Leonie Bradbury\, Curator \nFor the GlitchKraft exhibit\, Allison Tanenhaus collaborated with color-bending\, mind-scrambling\, new-media friends and local artist collaborators\, including Alex Kittle\, Ben K. Foley\, Property Materials\, Lauren Klotzman\, and stickipictures. Together\, they embrace electronic error\, circumvent computational constraint and transcend technological overstimulation — culminating in an immersive\, ephemeral glitchscape made to overload the senses. \nReviews: \nBoston Globe \n 
URL:https://emersoncontemporary.org/event/glitchkraft-v-2-allison-tanenhaus-and-friends/
CATEGORIES:Exhibition,Public Program
ATTACH;FMTTYPE=image/jpeg:https://emersoncontemporary.org/wp-content/uploads/sites/51/2021/10/kittle.jpg
END:VEVENT
BEGIN:VEVENT
DTSTART;TZID=America/New_York:20220325T120000
DTEND;TZID=America/New_York:20220325T143000
DTSTAMP:20260424T083751
CREATED:20230815T185432Z
LAST-MODIFIED:20231003T145603Z
UID:7308-1648209600-1648218600@emersoncontemporary.org
SUMMARY:Will Pappenheimer: Artist Talk and Demo
DESCRIPTION:Will Pappenheimer (webinar) \nFriday\, March 25\, 1:30-3pm \nWill Pappenheimer is a Brooklyn based artist working in new media\, performance and installation with an interest in spatial intervention and the altered experiences of the artwork as site. His current work explores the collage of the virtual and physical worlds in the recent medium of “mixed reality.” \nHe is a pioneer of augmented reality (AR) art and a founding member of the AR collective\, Manifest.AR formed in 2011 \nThis event is co-presented by Boston CyberArts \nFREE AND OPEN TO THE PUBLIC
URL:https://emersoncontemporary.org/event/will-pappenheimer-artist-talk-and-demo/
CATEGORIES:Gallery Talk,Public Program,Virtual program
ATTACH;FMTTYPE=image/png:https://emersoncontemporary.org/wp-content/uploads/sites/51/2022/02/Screen-Shot-2022-02-27-at-4.00.16-PM.png
END:VEVENT
END:VCALENDAR