BEGIN:VCALENDAR
VERSION:2.0
PRODID:-//Emerson Contemporary - ECPv6.15.19//NONSGML v1.0//EN
CALSCALE:GREGORIAN
METHOD:PUBLISH
X-WR-CALNAME:Emerson Contemporary
X-ORIGINAL-URL:https://emersoncontemporary.org
X-WR-CALDESC:Events for Emerson Contemporary
REFRESH-INTERVAL;VALUE=DURATION:PT1H
X-Robots-Tag:noindex
X-PUBLISHED-TTL:PT1H
BEGIN:VTIMEZONE
TZID:America/New_York
BEGIN:DAYLIGHT
TZOFFSETFROM:-0500
TZOFFSETTO:-0400
TZNAME:EDT
DTSTART:20210314T070000
END:DAYLIGHT
BEGIN:STANDARD
TZOFFSETFROM:-0400
TZOFFSETTO:-0500
TZNAME:EST
DTSTART:20211107T060000
END:STANDARD
BEGIN:DAYLIGHT
TZOFFSETFROM:-0500
TZOFFSETTO:-0400
TZNAME:EDT
DTSTART:20220313T070000
END:DAYLIGHT
BEGIN:STANDARD
TZOFFSETFROM:-0400
TZOFFSETTO:-0500
TZNAME:EST
DTSTART:20221106T060000
END:STANDARD
BEGIN:DAYLIGHT
TZOFFSETFROM:-0500
TZOFFSETTO:-0400
TZNAME:EDT
DTSTART:20230312T070000
END:DAYLIGHT
BEGIN:STANDARD
TZOFFSETFROM:-0400
TZOFFSETTO:-0500
TZNAME:EST
DTSTART:20231105T060000
END:STANDARD
END:VTIMEZONE
BEGIN:VEVENT
DTSTART;TZID=America/New_York:20221105T180000
DTEND;TZID=America/New_York:20221105T200000
DTSTAMP:20260423T182302
CREATED:20230815T185434Z
LAST-MODIFIED:20231003T152200Z
UID:7320-1667671200-1667678400@emersoncontemporary.org
SUMMARY:Border Pedagogies\, Queer Kinships\, and Archival Resonances: Tania Bruguera and Emilio Rojas
DESCRIPTION:Border Pedagogies\, Queer Kinships\, and Archival Resonances: Tania Bruguera and Emilio Rojas in Conversation.\nModerated by Laurel V. McLaughlin. \nSaturday\, November 5th\, 7-8:30p.m. (Doors open at 6:30p.m.)\nDessert Reception to follow. RSVP required EVENTBRITE \nLocation: Bill Bordy Theater\, 216 Tremont St\, Boston\, MA 02116 \nJoin Emerson Contemporary for a conversation between artists Tania Bruguera and Emilio Rojas\, moderated by Artspace New Haven Director of Curatorial Affairs and Emerson guest curator Laurel V. McLaughlin\, on the occasion of the book launch for Emilio Rojas: tracing a wound through my body (Emerson Contemporary\, 2022). Rojas and Bruguera will discuss the numerous research threads that intertwine in Emilio’s practice\, survey\, and the catalog structure. Departing from the atemporal and overlapping sections that compose the exhibition and catalog—the cut\, the line\, the scar\, and the corpus\, Bruguera\, Rojas\, and McLaughlin trace the intersections of border pedagogies\, queer kinships\, and archival resonances. \nEmilio Rojas: tracing a wound through my body (Emerson Contemporary\, 2022) is available in print-on-demand through Blurb\, or through an open-source link on the Emerson website. The bilingual exhibition catalog features an introduction by Michiko Okaya and Néstor Armando Gil Carmona\, new poetry by Emilio Rojas and Pamela Sneed\, an interview with Ernesto Pujol\, and essays by Valeria Luiselli\, Ethan Madarieta\, Laurel V. McLaughlin\, Rebecca Schneider\, and Mechtild Widrich with Andrei Pop.
URL:https://emersoncontemporary.org/event/border-pedagogies-queer-kinships-and-archival-resonances-tania-bruguera-and-emilio-rojas-in-conversation/
CATEGORIES:Artist Talk,Public Program
ATTACH;FMTTYPE=image/png:https://emersoncontemporary.org/wp-content/uploads/sites/51/2022/10/Border-Pedagogies.png
END:VEVENT
END:VCALENDAR